BEGIN:VCALENDAR
VERSION:2.0
PRODID:-//Tri-County Center - ECPv6.2.0.1//NONSGML v1.0//EN
CALSCALE:GREGORIAN
METHOD:PUBLISH
X-ORIGINAL-URL:https://tricountycenter.org
X-WR-CALDESC:Events for Tri-County Center
REFRESH-INTERVAL;VALUE=DURATION:PT1H
X-Robots-Tag:noindex
X-PUBLISHED-TTL:PT1H
BEGIN:VTIMEZONE
TZID:America/New_York
BEGIN:DAYLIGHT
TZOFFSETFROM:-0500
TZOFFSETTO:-0400
TZNAME:EDT
DTSTART:20230312T070000
END:DAYLIGHT
BEGIN:STANDARD
TZOFFSETFROM:-0400
TZOFFSETTO:-0500
TZNAME:EST
DTSTART:20231105T060000
END:STANDARD
END:VTIMEZONE
BEGIN:VEVENT
DTSTART;TZID=America/New_York:20230805T170000
DTEND;TZID=America/New_York:20230805T180000
DTSTAMP:20260419T154250
CREATED:20230807T221132Z
LAST-MODIFIED:20230816T170412Z
UID:10000010-1691254800-1691258400@tricountycenter.org
SUMMARY:No Expectations Karaoke (EC)
DESCRIPTION:
URL:https://tricountycenter.org/event/no-expectations-karaoke-ec-2/
LOCATION:Eastside Center\, 1134 Old St. Rt. 74\, Batavia\, OH\, 45103\, United States
CATEGORIES:Community Events,Events
ATTACH;FMTTYPE=image/png:https://tricountycenter.org/wp-content/uploads/2023/08/no-expectations-karaoke.png
END:VEVENT
END:VCALENDAR